BEGIN:VCALENDAR
VERSION:2.0
PRODID:-//AFCD - ECPv6.15.20//NONSGML v1.0//EN
CALSCALE:GREGORIAN
METHOD:PUBLISH
X-ORIGINAL-URL:https://www.afcd.be
X-WR-CALDESC:Évènements pour AFCD
REFRESH-INTERVAL;VALUE=DURATION:PT1H
X-Robots-Tag:noindex
X-PUBLISHED-TTL:PT1H
BEGIN:VTIMEZONE
TZID:Europe/Paris
BEGIN:DAYLIGHT
TZOFFSETFROM:+0100
TZOFFSETTO:+0200
TZNAME:CEST
DTSTART:20250330T010000
END:DAYLIGHT
BEGIN:STANDARD
TZOFFSETFROM:+0200
TZOFFSETTO:+0100
TZNAME:CET
DTSTART:20251026T010000
END:STANDARD
BEGIN:DAYLIGHT
TZOFFSETFROM:+0100
TZOFFSETTO:+0200
TZNAME:CEST
DTSTART:20260329T010000
END:DAYLIGHT
BEGIN:STANDARD
TZOFFSETFROM:+0200
TZOFFSETTO:+0100
TZNAME:CET
DTSTART:20261025T010000
END:STANDARD
BEGIN:DAYLIGHT
TZOFFSETFROM:+0100
TZOFFSETTO:+0200
TZNAME:CEST
DTSTART:20270328T010000
END:DAYLIGHT
BEGIN:STANDARD
TZOFFSETFROM:+0200
TZOFFSETTO:+0100
TZNAME:CET
DTSTART:20271031T010000
END:STANDARD
END:VTIMEZONE
BEGIN:VEVENT
DTSTART;TZID=Europe/Paris:20260424T190000
DTEND;TZID=Europe/Paris:20260424T190000
DTSTAMP:20260420T152128
CREATED:20260303T172646Z
LAST-MODIFIED:20260303T172856Z
UID:13081-1777057200-1777057200@www.afcd.be
SUMMARY:Entraînement line dance
DESCRIPTION:
URL:https://www.afcd.be/evenement/entrainement-line-dance/
LOCATION:Salle Saint-Laurent\, Rue Tienne de Mont 30\, Sombreffe\, 5140
CATEGORIES:Sombreffe
END:VEVENT
BEGIN:VEVENT
DTSTART;TZID=Europe/Paris:20260425T190000
DTEND;TZID=Europe/Paris:20260425T190000
DTSTAMP:20260420T152128
CREATED:20250723T184911Z
LAST-MODIFIED:20260314T141413Z
UID:12269-1777143600-1777143600@www.afcd.be
SUMMARY:Soirée Line Dance
DESCRIPTION:
URL:https://www.afcd.be/evenement/soiree-line-dance-2/
LOCATION:Salle Ecole Destrée\, Place Jules Destrée\, 47\, CHATELET\, 6200
CATEGORIES:Aiseau
END:VEVENT
BEGIN:VEVENT
DTSTART;TZID=Europe/Paris:20260426T140000
DTEND;TZID=Europe/Paris:20260426T140000
DTSTAMP:20260420T152128
CREATED:20250916T091216Z
LAST-MODIFIED:20250916T091216Z
UID:12577-1777212000-1777212000@www.afcd.be
SUMMARY:Thé dansant
DESCRIPTION:
URL:https://www.afcd.be/evenement/the-dansant-10/
LOCATION:salle de la Jeunesse\, Rue du Centre\, 46\, LIERNEUX\, 4990\, Belgium
CATEGORIES:Lierneux
END:VEVENT
BEGIN:VEVENT
DTSTART;TZID=Europe/Paris:20260516T193000
DTEND;TZID=Europe/Paris:20260516T193000
DTSTAMP:20260420T152128
CREATED:20250718T164502Z
LAST-MODIFIED:20260329T182330Z
UID:12137-1778959800-1778959800@www.afcd.be
SUMMARY:Souper dansant
DESCRIPTION:
URL:https://www.afcd.be/evenement/souper-dansant/
LOCATION:Salle le « Relaibis »\, rue Baltrai 100\, Sainte-Marie Chevigny\, 6800
CATEGORIES:Libramont
END:VEVENT
BEGIN:VEVENT
DTSTART;TZID=Europe/Paris:20260516T193000
DTEND;TZID=Europe/Paris:20260516T193000
DTSTAMP:20260420T152128
CREATED:20250819T064828Z
LAST-MODIFIED:20260401T120225Z
UID:12492-1778959800-1778959800@www.afcd.be
SUMMARY:Soirée dansante
DESCRIPTION:
URL:https://www.afcd.be/evenement/soiree-dansante-14/
LOCATION:Salle CALVA\, Pavé du Vingt\, 2\, FLENU\, 7012
CATEGORIES:Mons
END:VEVENT
BEGIN:VEVENT
DTSTART;TZID=Europe/Paris:20260530T190000
DTEND;TZID=Europe/Paris:20260530T190000
DTSTAMP:20260420T152128
CREATED:20260208T163434Z
LAST-MODIFIED:20260208T163434Z
UID:12998-1780167600-1780167600@www.afcd.be
SUMMARY:Souper Dansant
DESCRIPTION:
URL:https://www.afcd.be/evenement/souper-dansant-3/
LOCATION:Institut technique Henri Maus\, Chaussée de Louvain\, 92\, Eghezée\, 5310\, Belgium
CATEGORIES:Eghezee
END:VEVENT
BEGIN:VEVENT
DTSTART;TZID=Europe/Paris:20260531T120000
DTEND;TZID=Europe/Paris:20260531T120000
DTSTAMP:20260420T152128
CREATED:20251204T084804Z
LAST-MODIFIED:20260414T152028Z
UID:12868-1780228800-1780228800@www.afcd.be
SUMMARY:Souper de clôture
DESCRIPTION:
URL:https://www.afcd.be/evenement/souper-de-cloture/
LOCATION:Commanderie de Vaillampont\, Avenue de Vaillampont 10\, Thines\, 1402
CATEGORIES:Ittre
END:VEVENT
BEGIN:VEVENT
DTSTART;TZID=Europe/Paris:20260606T200000
DTEND;TZID=Europe/Paris:20260606T200000
DTSTAMP:20260420T152128
CREATED:20250719T170147Z
LAST-MODIFIED:20260324T085905Z
UID:12205-1780776000-1780776000@www.afcd.be
SUMMARY:Soirée dansante
DESCRIPTION:
URL:https://www.afcd.be/evenement/soiree-dansante-7/
LOCATION:Salle Communale d’Ophain\, Rue des Combattants 3\, BRAINE L'ALLEUD\, 1421
CATEGORIES:Braine l'Alleud
END:VEVENT
BEGIN:VEVENT
DTSTART;TZID=Europe/Paris:20260606T200000
DTEND;TZID=Europe/Paris:20260606T200000
DTSTAMP:20260420T152128
CREATED:20250724T141732Z
LAST-MODIFIED:20260417T072930Z
UID:12280-1780776000-1780776000@www.afcd.be
SUMMARY:Soirée de clôture
DESCRIPTION:
URL:https://www.afcd.be/evenement/soiree-de-cloture/
LOCATION:Salle de l’Amitié\, rue Charles Jaumotte 54\, Limal\, 1300
CATEGORIES:Wavre
END:VEVENT
BEGIN:VEVENT
DTSTART;TZID=Europe/Paris:20260606T200000
DTEND;TZID=Europe/Paris:20260606T200000
DTSTAMP:20260420T152128
CREATED:20251010T095019Z
LAST-MODIFIED:20251010T095019Z
UID:12732-1780776000-1780776000@www.afcd.be
SUMMARY:Souper dansant
DESCRIPTION:
URL:https://www.afcd.be/evenement/souper-dansant-18/
LOCATION:Centre Culturel et Sportif\, Avenue Gilson 48\, Izel\, 6810
CATEGORIES:Izel
END:VEVENT
BEGIN:VEVENT
DTSTART;TZID=Europe/Paris:20260606T200000
DTEND;TZID=Europe/Paris:20260606T200000
DTSTAMP:20260420T152128
CREATED:20251204T085141Z
LAST-MODIFIED:20251204T085141Z
UID:12871-1780776000-1780776000@www.afcd.be
SUMMARY:Souper de clôture
DESCRIPTION:
URL:https://www.afcd.be/evenement/souper-de-cloture-2/
CATEGORIES:Montigny
END:VEVENT
BEGIN:VEVENT
DTSTART;TZID=Europe/Paris:20260607T120000
DTEND;TZID=Europe/Paris:20260607T120000
DTSTAMP:20260420T152128
CREATED:20250810T062612Z
LAST-MODIFIED:20250810T062742Z
UID:12434-1780833600-1780833600@www.afcd.be
SUMMARY:Souper dansant
DESCRIPTION:
URL:https://www.afcd.be/evenement/souper-dansant-10/
LOCATION:La Grange du Château\, rue Georges Soupart 3\, Ecaussinnes\, 7191
CATEGORIES:Soignies
END:VEVENT
BEGIN:VEVENT
DTSTART;TZID=Europe/Paris:20260612T190000
DTEND;TZID=Europe/Paris:20260612T190000
DTSTAMP:20260420T152128
CREATED:20250813T141035Z
LAST-MODIFIED:20250813T141035Z
UID:12460-1781290800-1781290800@www.afcd.be
SUMMARY:Souper dansant
DESCRIPTION:
URL:https://www.afcd.be/evenement/souper-dansant-14/
LOCATION:Salle Emile Honnay\, Avenue Théodule Gonda\, 7\, FLEMALLE\, 4400
CATEGORIES:Flemalle
END:VEVENT
BEGIN:VEVENT
DTSTART;TZID=Europe/Paris:20260613T190000
DTEND;TZID=Europe/Paris:20260613T190000
DTSTAMP:20260420T152128
CREATED:20251004T120444Z
LAST-MODIFIED:20260414T144142Z
UID:12689-1781377200-1781377200@www.afcd.be
SUMMARY:Souper dansant
DESCRIPTION:Screenshot
URL:https://www.afcd.be/evenement/souper-dansant-17/
LOCATION:Centre Récréatif de Remouchamps\, Rue Marsale\, 40\, REMOUCHAMPS\, 4920\, Belgium
CATEGORIES:Aywaille
END:VEVENT
BEGIN:VEVENT
DTSTART;TZID=Europe/Paris:20260620T200000
DTEND;TZID=Europe/Paris:20260620T200000
DTSTAMP:20260420T152128
CREATED:20251204T085425Z
LAST-MODIFIED:20260128T185920Z
UID:12874-1781985600-1781985600@www.afcd.be
SUMMARY:Soirée de clôture
DESCRIPTION:
URL:https://www.afcd.be/evenement/soiree-de-cloture-2/
LOCATION:Salle Ecole Destrée\, Place Jules Destrée\, 47\, CHATELET\, 6200
CATEGORIES:Aiseau
END:VEVENT
BEGIN:VEVENT
DTSTART;TZID=Europe/Paris:20260627T190000
DTEND;TZID=Europe/Paris:20260627T190000
DTSTAMP:20260420T152128
CREATED:20250718T173236Z
LAST-MODIFIED:20250718T173236Z
UID:12149-1782586800-1782586800@www.afcd.be
SUMMARY:Souper dansant
DESCRIPTION:
URL:https://www.afcd.be/evenement/souper-dansant-2/
LOCATION:salle Pierre Colon\, Rue des cortils\, 4\, FOLX-LES-CAVES\, 1350
CATEGORIES:Orp
END:VEVENT
BEGIN:VEVENT
DTSTART;TZID=Europe/Paris:20260809T150000
DTEND;TZID=Europe/Paris:20260809T150000
DTSTAMP:20260420T152128
CREATED:20250718T171952Z
LAST-MODIFIED:20250718T171952Z
UID:12146-1786287600-1786287600@www.afcd.be
SUMMARY:THE DANSANT
DESCRIPTION:
URL:https://www.afcd.be/evenement/the-dansant-6/
LOCATION:LES AMIS DE LA CROIX\, à côté de l'Eglise\, LOUETTE ST-PIERRE\, 5575
CATEGORIES:Gedinne
END:VEVENT
END:VCALENDAR